BEGIN:VCALENDAR
VERSION:2.0
PRODID:-//RadisMoon - ECPv6.9.0//NONSGML v1.0//EN
CALSCALE:GREGORIAN
METHOD:PUBLISH
X-ORIGINAL-URL:https://radismoon.fr
X-WR-CALDESC:Évènements pour RadisMoon
REFRESH-INTERVAL;VALUE=DURATION:PT1H
X-Robots-Tag:noindex
X-PUBLISHED-TTL:PT1H
BEGIN:VTIMEZONE
TZID:Europe/Paris
BEGIN:DAYLIGHT
TZOFFSETFROM:+0100
TZOFFSETTO:+0200
TZNAME:CEST
DTSTART:20230326T010000
END:DAYLIGHT
BEGIN:STANDARD
TZOFFSETFROM:+0200
TZOFFSETTO:+0100
TZNAME:CET
DTSTART:20231029T010000
END:STANDARD
END:VTIMEZONE
BEGIN:VEVENT
DTSTART;TZID=Europe/Paris:20230531T120000
DTEND;TZID=Europe/Paris:20230531T140000
DTSTAMP:20260420T162126
CREATED:20230504T100004Z
LAST-MODIFIED:20230718T135452Z
UID:469-1685534400-1685541600@radismoon.fr
SUMMARY:Cuisine les algues à Canopy
DESCRIPTION:Premier niveau de l’école de la cuisine végétale\, \nune manière de mettre le pied dans le plat et de repartir avec plusieurs recettes équilibrées et passe partout.
URL:https://radismoon.fr/lesateliers/atelier-decouverte-cuisine-vegetale-2/
LOCATION:Canopy\, place de Canopy\, le vignon en quercy\, 46110
ATTACH;FMTTYPE=image/jpeg:https://radismoon.fr/wp-content/uploads/2023/05/atelier-canopypt.jpg
END:VEVENT
BEGIN:VEVENT
DTSTART;TZID=Europe/Paris:20230518T093000
DTEND;TZID=Europe/Paris:20230518T170000
DTSTAMP:20260420T162126
CREATED:20230504T183349Z
LAST-MODIFIED:20230718T135201Z
UID:461-1684402200-1684429200@radismoon.fr
SUMMARY:Atelier pestos
DESCRIPTION:Premier niveau de l’école de la cuisine végétale\, \nune manière de mettre le pied dans le plat et de repartir avec plusieurs recettes équilibrées et passe partout.
URL:https://radismoon.fr/lesateliers/atelier-decouverte-cuisine-vegetale/
LOCATION:Au jardin du 9 3/4\, Hoggward road\, Meyssac\, 19500\, France
ATTACH;FMTTYPE=image/jpeg:https://radismoon.fr/wp-content/uploads/2021/02/tartinades-et-gressins-scaled.jpg
END:VEVENT
END:VCALENDAR